BEGIN:VCALENDAR
VERSION:2.0
PRODID:spatie/icalendar-generator
DESCRIPTION:Events from Village of Pouce Coupe
X-WR-CALDESC:Events from Village of Pouce Coupe
REFRESH-INTERVAL;VALUE=DURATION:PT1440M
X-PUBLISHED-TTL:PT1440M
BEGIN:VTIMEZONE
TZID:America/Dawson_Creek
BEGIN:STANDARD
DTSTART:20250808T160000Z
TZOFFSETFROM:-0700
TZOFFSETTO:-0700
END:STANDARD
END:VTIMEZONE
BEGIN:VTIMEZONE
TZID:UTC
BEGIN:STANDARD
DTSTART:20250726T142000Z
TZOFFSETFROM:+0000
TZOFFSETTO:+0000
END:STANDARD
END:VTIMEZONE
BEGIN:VEVENT
UID:483-123
DTSTAMP:20260422T142000Z
SUMMARY:Pouce Coupe Firehall Open House
LOCATION:
ORGANIZER;CN=Pauline Laidman:MAILTO:plaidman@poucecoupe.ca
DTSTART;TZID=America/Dawson_Creek:20260505T160000
DTEND;TZID=America/Dawson_Creek:20260505T190000
X-ALT-DESC;FMTTYPE=TEXT/HTML:
CATEGORIES:Special Events
URL;VALUE=URI:https://poucecoupe.ca/event/pouce-coupe-firehall-open-house/
METHOD:PUBLISH
END:VEVENT
END:VCALENDAR